BEGIN:VCALENDAR
VERSION:2.0
PRODID:-//wp-events-plugin.com//7.2.3.1//EN
TZID:America/New_York
X-WR-TIMEZONE:America/New_York
BEGIN:VEVENT
UID:83@firstparishbeverly.org
DTSTART:20210417T183000Z
DTEND:20210417T183000Z
DTSTAMP:20210311T142145Z
URL:https://firstparishbeverly.org/events/circle-dinner/
SUMMARY:Circle Dinner
DESCRIPTION:We will invite you to share picnic dishes either virtually or i
 n person\, weather and safety permitting.\n\nFor more information contact 
 Amy Smith\, mmadinot@mit.edu or Nelda Quigley\, neldaquigley@gmail.com
END:VEVENT
END:VCALENDAR