BEGIN:VCALENDAR
VERSION:2.0
PRODID:-//wp-events-plugin.com//7.2.3.1//EN
TZID:America/New_York
X-WR-TIMEZONE:America/New_York
BEGIN:VEVENT
UID:9@firstparishbeverly.org
DTSTART:20181221T200000Z
DTEND:20181221T210000Z
DTSTAMP:20181115T204514Z
URL:https://firstparishbeverly.org/events/handels-messiah/
SUMMARY:Handel's Messiah
DESCRIPTION:The Beverly Community Messiah Concert will be on Friday\, Decem
 ber 21 at 8:00 pm at the First Parish Church. Presented by the combined Be
 verly Church Choirs and guest singers under the direction of Robert F. Lit
 tlefield and Frederick A. MacArthur\, Organist.  Admission is free.
LOCATION:First Parish Church\, 225 Cabot Street\, Beverly\, 01915\, United 
 States
X-APPLE-STRUCTURED-LOCATION;VALUE=URI;X-ADDRESS=225 Cabot Street\, Beverly\
 , 01915\, United States;X-APPLE-RADIUS=100;X-TITLE=First Parish Church:geo
 :0,0
END:VEVENT
END:VCALENDAR