BEGIN:VCALENDAR
VERSION:2.0
PRODID:-//wp-events-plugin.com//7.2.3.1//EN
TZID:America/New_York
X-WR-TIMEZONE:America/New_York
BEGIN:VEVENT
UID:41@firstparishbeverly.org
DTSTART:20191012T093000Z
DTEND:20191012T110000Z
DTSTAMP:20190923T132818Z
URL:https://firstparishbeverly.org/events/were-walking-to-end-homelessness
 -are-you/
SUMMARY:WE'RE WALKING TO END HOMELESSNESS\, ARE YOU?
DESCRIPTION:Join First Parish members and friends on Saturday\, October 12t
 h\, as we walk to end homelessness so children and their parents can have 
 a better future.\n\nThe 6th Annual Walk to End Homelessness has expanded! 
 This year you can choose between a 9:30 AM walk with pastries and coffee o
 r a 1:30 PM walk\, and join us for the new Family Promise Fall Festival fr
 om 11:30 AM to 1:30 PM. There will be lunch\, games and prizes for familie
 s and friends of all ages. Please join us and show your support by invitin
 g your friends to attend and/or donate! Go to www.familypromisensb.org fin
 d out more.
END:VEVENT
END:VCALENDAR